BEGIN:VCALENDAR
PRODID:-//Det Danske Spejderkorps//NONSGML Gruppeweb//EN
VERSION:2.0
CALSCALE:GREGORIAN
X-PUBLISHED-TTL:PT1H
X-WR-CALNAME:Mikroer i Holstebrospejderne
METHOD:PUBLISH
BEGIN:VEVENT
UID:gruppeweb.dk:6406:event:83
DTSTAMP:20260419T203355Z
LAST-MODIFIED:20260214T074324Z
SUMMARY:Oprykningstur og åbent hus
DESCRIPTION:Sommerferien er brugt\nop\, sensommeren sig\, og dermed også H
 olstebroSpejdernes GO-tur  \n(Gruppe-Opryknings-tur)\,\nhvor vi kombinerer
  spejdernes oprykningstur med vores ”åbent  \nhus-arrangement”\nom s
 øndagen.  \n\n\n\n*Turen foregår derfor i spejderhuset på Sønderallé
 . *Pris: 100 kr. pr.  \nspejder**\n\n\n\n* *\n\nVi inviterer\nalle spejde
 re\, forældre og søskende til oprykningsceremoni som starter  \nlørdag\
 nkl. 10.00.Herefter er der *fælles opgave for spejdere og forældre: ”B
 yg  \net\nspisebord” & efterfølgende fælles spisning.*\n\n\n\n*I skal 
 medbringe\nmad der passer til det antal personer I kommer*” samt egne dr
 ikkevarer som  \nsættes på\net stort buffetbord. Vi spiser sammen indtil
  ca. kl. 12.30 hvorefter vi siger\ntak for idag til forældre og søskende
 .   **\n\n\n\nHerefter\nskal spejderne arbejde med spændende spejderakt
 iviteter og fremstille boder  \nog\nmateriale\, der viser det sjoveste og 
 vildeste fra året\, der er gået. Det  \nhele vises\nfrem om søndagen\, 
 hvor vi holder åbent hus for alle.\n\n\n\n*Søndag holder\nvi åbent hus 
 mellem kl. 11.00 og kl. 13.00.* Forældre og søskende er meget  \nvelkomn
 e til at deltage\ni åbent hus-arrangementet\, hvor der bydes på saftevan
 d\, kaffe\, kage og  \nsnobrød.\nForældre og familie må gerne give en h
 ånd med til oprydning efter kl13.  \nSpejderne\nmå meget gerne invitere 
 en ven med til åbent hus\, og del gerne opslaget på\nsociale medier 
 😊\n                                  
                                      
                                      
                                  \n\nGO-t
 ur slutter søndag kl. ca 14.30 *(Eller før\,  hvis vi er færdige)*\n\n
 \n\nMed spejderhilsen Gruppestyrelsen\n\n\n\n
URL:https://www.holstebrospejderne.dk/begivenhed/oprykningstur-og-aabent-hu
 s
DTSTART:20250823T080000Z
DTEND:20250824T123000Z
LOCATION:Holstebrospejderne\, Sønder Alle 33A\, 7500 Holstebro
END:VEVENT
BEGIN:VEVENT
UID:gruppeweb.dk:6406:event:89
DTSTAMP:20260419T203355Z
LAST-MODIFIED:20260214T074304Z
SUMMARY:hjælpenisser til julemanden 2025
DESCRIPTION:Jeg er blevet spurgt\, af Julemanden\, om jeg kendte nogle spej
 dere der ville  \nvære hjælpenisser her i december. Så hvis I kan\, er 
 der brug for jeres  \nhjælp til at dele flødekarameller ud i gågaden f
 ølgende tidspunkter. Har  \nbrug for 8 nisser pr gang\n\n\n\n \n\n \n\n
 \n\nFredag den 12. december             kl. 15:00-16:30\n\n\n\
 nLørdag den 20. december              kl. 13:30-15:00\n\n\n\
 n \n\nJeg har brug for tilmelding\, senest 28/11 2025\n\n\n\nTilmelding\n
 på holstebrospejderne.dk                    <\n\nI kan
  være\nhjælpenisser\, mens mor og far skal på juleindkøb\n\n\n\n \n\n
 Nissetøj og kurve med slik får I udleveret ved julemandens værksted\, p
 å  \nhjørnet af Danmarksgade og gågaden hvor I møder ind senest 5 min 
 før\n\n\n\n \n\nEn stor\nJulespejder hilsen\n\n\n\n \n\n\nMinileder\nAn
 ni\n\n\n\n
URL:https://www.holstebrospejderne.dk/begivenhed/hjaelpenisser-til-julemand
 en-2025
DTSTART:20251212T140000Z
DTEND:20251220T123000Z
LOCATION:Julemandens værksted
END:VEVENT
BEGIN:VEVENT
UID:gruppeweb.dk:6406:event:97
DTSTAMP:20260419T203355Z
LAST-MODIFIED:20260214T074252Z
SUMMARY:VD-Vækstaften
DESCRIPTION:\n
URL:https://www.holstebrospejderne.dk/begivenhed/vd-vaekstaften
DTSTART:20260122T163000Z
DTEND:20260122T200000Z
LOCATION:Holstebrospejderne\, Sønder Alle 33A\, 7500 Holstebro
END:VEVENT
BEGIN:VEVENT
UID:gruppeweb.dk:6406:event:100
DTSTAMP:20260419T203355Z
LAST-MODIFIED:20260215T144221Z
SUMMARY:Planlægge SL2026
DESCRIPTION:Vi ses på mandag. Af referatet fra sidste møde fremgår: Næs
 te møde er d.  \n16/2-26 kl. 19\,30-21\,30 hos DDS Storå\, Prins Buris v
 ej 2 i Mejdal Punkter  \ntil næste møde: Fælles indkøb af Løvtræs br
 ænde? Ca. antal deltagere?  \nFælles mærke? Nyt møde\n\n
URL:https://www.holstebrospejderne.dk/begivenhed/planlaegge-sl2026
DTSTART:20260216T183000Z
DTEND:20260216T203000Z
LOCATION:Storå
END:VEVENT
BEGIN:VEVENT
UID:gruppeweb.dk:6406:event:99
DTSTAMP:20260419T203355Z
LAST-MODIFIED:20260128T153150Z
SUMMARY:Havefest - aktivitetsplanlægning ved storå
DESCRIPTION:\n
URL:https://www.holstebrospejderne.dk/begivenhed/havefest-aktivitetsplanlae
 gning-ved-storaa
DTSTART:20260217T180000Z
DTEND:20260217T200000Z
LOCATION:Holstebrospejderne\, Sønder Alle 33A\, 7500 Holstebro
END:VEVENT
BEGIN:VEVENT
UID:gruppeweb.dk:6406:event:94
DTSTAMP:20260419T203355Z
LAST-MODIFIED:20260303T190750Z
SUMMARY:Gruppetur
DESCRIPTION:Kære allesammen.Så er tilmeldingen til gruppeturen klar på  
 \nmedlemsservice.https://medlem.dds.dk/ [1]Vi mødes kl 10 på //Nybolejre
 n [2]  \n(Sønder Nybovej 4 . Holstebro) lørdag d 7 marts Søndag d 8 mar
 ts klokken  \n10.00 afholdes fastelavn med tøndeslagning for børnene. Ig
 en venligst  \nsponsoreret af Bødkeriet/Holstebro sand og grus/ havehande
 l.dk. [3]  Imens  \nder er tøndeslagning afholder vi også generalforsaml
 ing for Holstebro  \nSpejderne\, hvor alle forældre er velkomne.Vi server
 er en let frokost-tag  \ngerne mindre søskende med.Lejren slutter ca klok
 ken 13.00 efter fælles  \noprydning.Prisen er 250 kr  og betales via medl
 emsservice. Vi tager gerne  \nimod køkkenhjælp \,så vores ledere kan ko
 ncentrere sig om børnene \,og vi  \nmodtager også gerne kage Vi ses til 
 en fed weekend .\n\n[1] https://medlem.dds.dk/?fbclid=IwZXh0bgNhZW0CMTAAYn
 JpZBEwVEh3MHR1VjZoNHN1ZnZPYnNydGMGYXBwX2lkEDIyMjAzOTE3ODgyMDA4OTIAAR7bANKS
 siCajEcjgz4M5amVXUH6bEhPTzrrHpw16oBo7vgm9miEKzkZzXWmmg_aem__NhRzg_V7uBSUGH
 9w2sflw\n[2] https://www.facebook.com/groups/145026406528/user/10008656958
 5622/?__cft__[0]=AZYC18b7raKhgO3DVO8eyfX0fXTmnyDQvKmB5TE6L4A3c6OG43taT21Zh
 NFrHG5UkJPctf69F9eanB40cqO8PIHao4lapl80L-aA_rSc0bztfMJu83kBSMPhrvHozQm0CY4
 fWNHctbT_NcdkGUmUk35Hruw3Fivia_c0Y4QzKjF02w&amp\;__tn__=-]K-R\n[3] https:/
 /l.facebook.com/l.php?u=http%3A%2F%2Fhavehandel.dk%2F%3Ffbclid%3DIwZXh0bgN
 hZW0CMTAAYnJpZBEwVEh3MHR1VjZoNHN1ZnZPYnNydGMGYXBwX2lkEDIyMjAzOTE3ODgyMDA4O
 TIAAR4XZGq0-ugmcFG-W1cLvsP0oplAPissdU4SyrfXwEFk7UgDum4dCaLryZXHzg_aem_EImH
 Cu2HEAyvC9gug4PXiw&amp\;h=AT01Bj-iUAUgILvL5jeO47VstJOBR7pglXE1yfyaYVdUFZcD
 3JinZ_FpUvNiMgML67CFB-DMzUzfLPd1G869Px8dIaldtnU5HkP6WXVPLhdw6kHYwl7UcLNKYX
 4hVT6ITZmVccRgoZvXBkU-7NamrDopH7Fgrg&amp\;__tn__=-UK-R&amp\;c[0]=AT17CTEEt
 JUSB7QrX39NUy92D333cNL_CGKXYgBbOs45_4_CZNPzqPB7NjDsobmm6Dc0bpTjk5QzjalbjhH
 xujP3yWIJ9d8KlwXAa0FcwSUzaL4xCEGwdRDH7jG6KwAe9b8kd8ZKjAsljum_6gH8w3oxhNj6k
 DYKni3LmlnW5lNlYTFKha0\n
URL:https://www.holstebrospejderne.dk/begivenhed/gruppetur-0
DTSTART:20260307T090000Z
DTEND:20260308T130000Z
LOCATION:Holstebrospejderne\, Sønder Alle 33A\, 7500 Holstebro
END:VEVENT
BEGIN:VEVENT
UID:gruppeweb.dk:6406:event:110
DTSTAMP:20260419T203355Z
LAST-MODIFIED:20260319T080525Z
SUMMARY:Planlægge aktivitetsdag2026
DESCRIPTION:: Vi skal have planlagt aktivitetsdagen d. 13. juni 2026. Tænk
  gerne forud  \nderfor på temaer\, \n\nposter\, muligt antal deltagere m
 v. \n\nTilmelding til IPC til Nora Stone på nora_stone@hotmail.com NLT 2
 4. april  \n2026.\n\n
URL:https://www.holstebrospejderne.dk/begivenhed/planlaegge-aktivitetsdag20
 26
DTSTART:20260428T170000Z
DTEND:20260428T190000Z
LOCATION:Struer sø DDS\, Ved Fjorden 15\, 7600 Struer
END:VEVENT
BEGIN:VEVENT
UID:gruppeweb.dk:6406:event:90
DTSTAMP:20260419T203355Z
LAST-MODIFIED:20260214T074307Z
SUMMARY:Spejdernes Lejr 2026
DESCRIPTION:Så er vi for alvor gået i gang med planlægningen af vores\ns
 ommerlejr i *Uge 30 i 2026*. Turen går igen til Hedeland som\nligger natu
 rskønt lige i smørhullet mellem Høje Tåstrup\, Roskilde.\n\n\n\nVi bli
 ver godt 35.000 spejdere fra ind- og udland.\n\n\n\n*TILMELDINGSFRIST – 
 13 januar – 2026*\n\n**\n\n*Junior og trop:   18-26\njuli 2026 - pris 
 1.750 kr.*\n\n\n\n\n*\n\n*\n\n\n*Mikro/mini:          22-26 juli 
 2026 - pris 1.100 kr.*\n\nBetaling kan ske i rater 50% den 13/1 & 50% den 
 25/4 –\n(det er ok at betale det hele i rate 1).\n\n\n\n\n\n\nVi vil ger
 ne at der i benyttes bankoverførsel ifbm betaling.\nKonto nr: 7500-702207
 4\nDet er lidt dyrt for gruppen når dyre lejre skal betales gennem\ntilme
 ldingssystem\, så her vil vi gerne have pengene som bank overførsel  \n
 😊. \n\n\n\n\n
URL:https://www.holstebrospejderne.dk/begivenhed/spejdernes-lejr-2026
DTSTART:20260718T085500Z
DTEND:20260726T085500Z
LOCATION:Hedeland Naturpark\, Maglehøjvej 6\, 2640 Hedehusene
END:VEVENT
END:VCALENDAR
